BEGIN:VCALENDAR
VERSION:2.0
PRODID:-//東京青山ロータリークラブ - ECPv6.5.0//NONSGML v1.0//EN
CALSCALE:GREGORIAN
METHOD:PUBLISH
X-WR-CALNAME:東京青山ロータリークラブ
X-ORIGINAL-URL:https://aoyama-rc.com
X-WR-CALDESC:東京青山ロータリークラブ のイベント
REFRESH-INTERVAL;VALUE=DURATION:PT1H
X-Robots-Tag:noindex
X-PUBLISHED-TTL:PT1H
BEGIN:VTIMEZONE
TZID:Asia/Tokyo
BEGIN:STANDARD
TZOFFSETFROM:+0900
TZOFFSETTO:+0900
TZNAME:JST
DTSTART:20250101T000000
END:STANDARD
END:VTIMEZONE
BEGIN:VEVENT
DTSTART;TZID=Asia/Tokyo:20251025T103000
DTEND;TZID=Asia/Tokyo:20251026T160000
DTSTAMP:20260422T094907
CREATED:20251009T035855Z
LAST-MODIFIED:20251009T035855Z
UID:2706-1761388200-1761494400@aoyama-rc.com
SUMMARY:キッズフェスタ2025＠国立青少年教育振興機構
DESCRIPTION:東京青山ロータリークラブは\nアニマルセラピー活動他にて\nキッズフェスタ2025に出展いたします。\n多くの子どもたちが動物と触れ合う機会を楽しんでいただけるようベストを尽くします！ \n開催概要\n日　時 \n１０月２５日（土）　10:30～17:00\n１０月２６日（日）　10:30～15:30 \n場　所 \n国立オリンピック記念青少年総合センター \n入場料 \n18歳未満：無料 / 18歳以上：入場料500円（一人あたり）\n現金及びPayPay決済にて当日お支払い（事前決済はございません） \n主　催 \n体験の風をおこそう運動推進委員会 \n共　催 \n公益財団法人東京都公園協会 代々木公園サービスセンター \n後　援 \n文部科学省・こども家庭庁 \n特別協力 \n公益財団法人上廣倫理財団 \n協　賛 \n小田急電鉄株式会社・コールマン \n 
URL:https://aoyama-rc.com/event/kidsfesta2025/
ATTACH;FMTTYPE=image/jpeg:https://aoyama-rc.com/wp-content/uploads/2025/10/IMG_0334-scaled.jpeg
END:VEVENT
BEGIN:VEVENT
DTSTART;TZID=Asia/Tokyo:20250128T153000
DTEND;TZID=Asia/Tokyo:20250128T163000
DTSTAMP:20260422T094907
CREATED:20250128T015624Z
LAST-MODIFIED:20250128T015624Z
UID:1203-1738078200-1738081800@aoyama-rc.com
SUMMARY:奉仕活動：2025年1月28日＠港南子ども中高生プラザ
DESCRIPTION:アニマルセラピー\n場所：港南子ども中高生プラザ\n〒108-0075 東京都港区港南４丁目３−７\nTEL 0334509576
URL:https://aoyama-rc.com/event/20250128animal/
LOCATION:港南子ども中高生プラザ\, 東京都港区港南４丁目３−７\, 東京都\, 108-0075\, Japan
ATTACH;FMTTYPE=image/jpeg:https://aoyama-rc.com/wp-content/uploads/2024/12/animal.jpg
END:VEVENT
END:VCALENDAR